BEGIN:VCALENDAR
VERSION:2.0
PRODID:-//Warkworth Museum - ECPv6.10.0//NONSGML v1.0//EN
CALSCALE:GREGORIAN
METHOD:PUBLISH
X-ORIGINAL-URL:https://warkworthmuseum.co.nz
X-WR-CALDESC:Events for Warkworth Museum
REFRESH-INTERVAL;VALUE=DURATION:PT1H
X-Robots-Tag:noindex
X-PUBLISHED-TTL:PT1H
BEGIN:VTIMEZONE
TZID:Pacific/Auckland
BEGIN:STANDARD
TZOFFSETFROM:+1300
TZOFFSETTO:+1200
TZNAME:NZST
DTSTART:20240406T140000
END:STANDARD
BEGIN:DAYLIGHT
TZOFFSETFROM:+1200
TZOFFSETTO:+1300
TZNAME:NZDT
DTSTART:20240928T140000
END:DAYLIGHT
END:VTIMEZONE
BEGIN:VEVENT
DTSTART;TZID=Pacific/Auckland:20241213T100000
DTEND;TZID=Pacific/Auckland:20241213T110000
DTSTAMP:20260422T023955
CREATED:20241101T015442Z
LAST-MODIFIED:20241114T020111Z
UID:10000449-1734084000-1734087600@warkworthmuseum.co.nz
SUMMARY:Tea & Talk: History of Ranulph Dacre and the Dacre Cottage
DESCRIPTION:Talk by Felicity Goodyear-Smith on her fully-illustrated book Dacre Cottage and the Weiti Block. \nCost: $10 entrance fee for the talk and visit to Warkworth Museum.Booking essential: warkworthmuseum@xtra.co.nz \nThe book tells the story of Dacre Cottage\, built in 1855 by Captain Ranulph Dacre for his young son Henry to farm the Weiti block of land\, once the kauri trees growing there had been harvested. There are many tales about Dacre\, his sailing adventures and trading enterprises\, the lives and deeds of his descendants and of many of Dacre’s connections including Eruera Patuone\, John Logan Campbell\, William Hobson\, George Grey\, Maurice Kelly. In the 1830s and 1840s Dacre owned the Weiti block and the land around the Tāwharanui Peninsula\, much of Mahurangi\, the Whangaparaoa Peninsula and.in Mercury Bay. The book also tells of the natural history of this coastal strip between the Weiti and Ōkura Rivers\, and of the many community groups and individuals who have fought to protect the forest\, the land\, the rivers and estuary\, the beach and the wildlife from human degradation and development. \nThis talk will give an overview about Dacre\, his family and associates\, the history of Dacre cottage and the Weiti block\, and community efforts to protect our historical and natural heritage. The main focus of the talk will be on the fascinating tale of Dacre and Gordon Davis Browne and their ill-fated spar station at Mahurangi. \nThe Dacre Reserve Management Committee is raising funds to publish the book (production and printing costs)\, All proceeds from sales of the book will go towards the ongoing maintenance and improvement programme for the Cottage and the Historic and Esplanade Reserves. All donating more than $100 will receive a free copy of the book and have their name listed in the book as a donor. \nBank account number  03-0180-0167915-00 (put Book in reference box) \nSecretary Dacre Cottage Management Committee (for receipts)  mail.shane.d@gmail.com \nhttps://www.dacre.org.nz/donations.php
URL:https://warkworthmuseum.co.nz/event/tea-talk-history-of-ranulph-dacre-and-the-dacre-cottage/
LOCATION:Warkworth
CATEGORIES:Event,Tea & Talk
ATTACH;FMTTYPE=image/jpeg:https://warkworthmuseum.co.nz/wp-content/uploads/2024/11/Facebook-Events.jpg
ORGANIZER;CN="Warkworth Museum":MAILTO:warkworthmuseum@xtra.co.nz
END:VEVENT
END:VCALENDAR